BEGIN:VCALENDAR
VERSION:2.0
PRODID:-//Contratero//ES
CALSCALE:GREGORIAN
METHOD:PUBLISH
BEGIN:VEVENT
UID:14/20.- Servicio@contratero.es
DTSTAMP:20260422T231458Z
DTSTART:20200519T235959
DTEND:20200520T005959
SUMMARY:Cierre: Servicios de seguridad informática perimetral gest
DESCRIPTION:Servicios de seguridad informática perimetral gestionada para el Ayuntamiento de Roquetas de Mar.\\n\\nOrganismo: Junta de Gobierno del Ayuntamiento de Roquetas de Mar\\n\\nVer en Contratero: https://contratero.es/contracts/14/20.- Servicio
URL:https://contratero.es/contracts/14/20.- Servicio
STATUS:CONFIRMED
BEGIN:VALARM
TRIGGER:-P1D
ACTION:DISPLAY
DESCRIPTION:Recordatorio: Servicios de seguridad informá
END:VALARM
END:VEVENT
END:VCALENDAR